BEGIN:VCALENDAR
VERSION:2.0
PRODID:-//pretix//pretix.eu//
BEGIN:VTIMEZONE
TZID:Europe/Berlin
BEGIN:STANDARD
DTSTART:20001029T040000
RRULE:FREQ=YEARLY;BYDAY=-1SU;BYMONTH=10
TZNAME:CET
TZOFFSETFROM:+0200
TZOFFSETTO:+0100
END:STANDARD
BEGIN:DAYLIGHT
DTSTART:20000326T030000
RRULE:FREQ=YEARLY;BYDAY=-1SU;BYMONTH=3
TZNAME:CEST
TZOFFSETFROM:+0100
TZOFFSETTO:+0200
END:DAYLIGHT
END:VTIMEZONE
BEGIN:VEVENT
UID:pretix-mv-walkertshofen-konzert-2025-4741153@tickets.mv-walkertshofen.d
 e
DTSTART;TZID=Europe/Berlin:20251207T140000
DTEND;TZID=Europe/Berlin:20251207T163000
DESCRIPTION:Tickets: https://tickets.mv-walkertshofen.de/4741153/\nVeransta
 lter: Musikverein Walkertshofen e.V.
DTSTAMP:20260419T201850Z
LOCATION:Lagerhaus Walkertshofen
SUMMARY:Jahreskonzert 2025 – Sonntag Nachmittag
END:VEVENT
END:VCALENDAR
